BEGIN:VCALENDAR
VERSION:2.0
PRODID:icalendar-ruby
CALSCALE:GREGORIAN
METHOD:PUBLISH
BEGIN:VEVENT
DTSTAMP:20260423T115152Z
UID:345-985530@gracecolorado.com
DTSTART:20260425T180000Z
DTEND:20260425T200000Z
CLASS:PUBLIC
CREATED:20260421T163345
DESCRIPTION:
LAST-MODIFIED:20260421T163345
LOCATION:
SUMMARY:Garden Volunteer Work Day
URL;VALUE=URI:https://www.gracecolorado.com/events/garden-volunteer-work-da
 y/2026-04-25
END:VEVENT
END:VCALENDAR
