BEGIN:VCALENDAR
VERSION:2.0
PRODID:icalendar-ruby
CALSCALE:GREGORIAN
METHOD:PUBLISH
BEGIN:VEVENT
DTSTAMP:20260424T092802Z
UID:346-985525@gracecolorado.com
DTSTART:20260426T173000Z
DTEND:20260426T183000Z
CLASS:PUBLIC
CREATED:20260421T162430
DESCRIPTION:
LAST-MODIFIED:20260421T162430
LOCATION:
SUMMARY:Summer Mission Trip Information Session
URL;VALUE=URI:https://www.gracecolorado.com/events/summer-mission-trip-info
 rmation-session/2026-04-26
END:VEVENT
END:VCALENDAR
