BEGIN:VCALENDAR
VERSION:2.0
PRODID:icalendar-ruby
CALSCALE:GREGORIAN
METHOD:PUBLISH
BEGIN:VEVENT
DTSTAMP:20260421T100259Z
UID:333-914938@gracecolorado.com
DTSTART:20260419T170000Z
DTEND:20260419T173000Z
CLASS:PUBLIC
CREATED:20260401T204839
DESCRIPTION:
LAST-MODIFIED:20260401T204839
LOCATION:Grace Hallway
SUMMARY:Volunteer Appreciation Sunday
URL;VALUE=URI:https://www.gracecolorado.com/events/volunteer-appreciation-s
 unday--333/2026-04-19
ATTACH;FILENAME=Goings On Blocks 2024 (1200 x 400 px) - 2026-04-01T204724.0
 22.png;FMTTYPE=image/png:https://dq5pwpg1q8ru0.cloudfront.net/2026/04/02/0
 2/48/39/91b9e4bc-b83e-417d-8a1d-da832e61351e/Goings%20On%20Blocks%202024%2
 0(1200%20x%20400%20px)%20-%202026-04-01T204724.022.png
END:VEVENT
END:VCALENDAR
